BEGIN:VCALENDAR
VERSION:2.0
PRODID:-//eventon.com NONSGML v1.0//EN
BEGIN:VEVENT
UID:69ec0415c1a73
DTSTAMP:20260425T000021
DTSTART:20241226T070000Z
DTEND:20241226T105000Z
TZID:Pacific/Midway
LOCATION:
SUMMARY:NATALE 2024
DESCRIPTION: \nhttps://babadulac.com/events/natale-2024/
URL:https://babadulac.com/events/natale-2024/
END:VEVENT
END:VCALENDAR